BEGIN:VCALENDAR
VERSION:2.0
PRODID:-//Helen Peacock:  Spiritual Medium - ECPv6.13.1//NONSGML v1.0//EN
CALSCALE:GREGORIAN
METHOD:PUBLISH
X-WR-CALNAME:Helen Peacock:  Spiritual Medium
X-ORIGINAL-URL:https://www.helenpeacock.ca
X-WR-CALDESC:Events for Helen Peacock:  Spiritual Medium
REFRESH-INTERVAL;VALUE=DURATION:PT1H
X-Robots-Tag:noindex
X-PUBLISHED-TTL:PT1H
BEGIN:VTIMEZONE
TZID:America/Toronto
BEGIN:DAYLIGHT
TZOFFSETFROM:-0500
TZOFFSETTO:-0400
TZNAME:EDT
DTSTART:20260308T070000
END:DAYLIGHT
BEGIN:STANDARD
TZOFFSETFROM:-0400
TZOFFSETTO:-0500
TZNAME:EST
DTSTART:20261101T060000
END:STANDARD
END:VTIMEZONE
BEGIN:VEVENT
DTSTART;TZID=America/Toronto:20260422T190000
DTEND;TZID=America/Toronto:20260422T203000
DTSTAMP:20260422T014513
CREATED:20260309T223155Z
LAST-MODIFIED:20260309T223155Z
UID:5695-1776884400-1776889800@www.helenpeacock.ca
SUMMARY:Messages From Spirit
DESCRIPTION:  \n \n  \nTribeca Coffee House \nPRESENTS \nMessages From Spirit \n  \nJoin Helen for an Intimate Group Reading where she will demonstrate that your Loved One’s in Spirit are around you and wish to communicate with you.\n\nIf you are new to this \, what a perfect way to receive and witness connections from the Spirit Realm.\n\nYou will also be able to witness other people receive their messages as well. Sometimes heartfelt\, sometimes funny and yes…more importantly healing .\n\nCome early for some tasty treats and coffee/lattes for purchase.\n\nThe only thing Helen requests from you \, is to come with an open Heart.\n\nTo Reserve Your Seat\n\nBook Now \nAdmission – $60.00 (tax included) \n\n\nIs there a Message waiting for you ? \n\n*** Seats are limited to 12 people ***\nNo Refunds\nMust be 16 years
URL:https://www.helenpeacock.ca/events/messages-from-spirit/
LOCATION:Tribeca Coffee\, 2003 Lakeshore Rd. E Unit B\, Burlington\, Ontario\, L7R1A1\, Canada
END:VEVENT
END:VCALENDAR